BEGIN:VCALENDAR
VERSION:2.0
PRODID:-//Oqata Wellness Solutions - ECPv6.15.13.1//NONSGML v1.0//EN
CALSCALE:GREGORIAN
METHOD:PUBLISH
X-ORIGINAL-URL:https://oqatawellness.com
X-WR-CALDESC:Events for Oqata Wellness Solutions
REFRESH-INTERVAL;VALUE=DURATION:PT1H
X-Robots-Tag:noindex
X-PUBLISHED-TTL:PT1H
BEGIN:VTIMEZONE
TZID:Africa/Kampala
BEGIN:STANDARD
TZOFFSETFROM:+0300
TZOFFSETTO:+0300
TZNAME:EAT
DTSTART:20240101T000000
END:STANDARD
END:VTIMEZONE
BEGIN:VEVENT
DTSTART;TZID=Africa/Kampala:20251103T090000
DTEND;TZID=Africa/Kampala:20251105T120000
DTSTAMP:20260423T214008
CREATED:20251103T125234Z
LAST-MODIFIED:20251103T125418Z
UID:4821-1762160400-1762344000@oqatawellness.com
SUMMARY:E-Commerce Launch
DESCRIPTION:The OQATA E-Commerce Launch marks the official rollout of an integrated online shopping and wellness platform designed to connect Independent Business Owners (IBOs) with consumers through a seamless digital experience. Built for accessibility\, transparency\, and growth\, the platform empowers partners to promote and distribute OQATA wellness products while earning commissions through a structured affiliate network. The launch represents a key milestone in OQATA’s mission to blend technology\, health\, and entrepreneurship—creating sustainable income opportunities and expanding the reach of trusted wellness solutions across Uganda and beyond.
URL:https://oqatawellness.com/event/e-commerce-launch/
LOCATION:Oqata Main Hall\, Kampala\, Bombo Road Buddu House\, Kampala\, Central\, 00256\, Uganda
ATTACH;FMTTYPE=image/jpeg:https://oqatawellness.com/wp-content/uploads/2025/10/images-1.jpeg
ORGANIZER;CN="Oqata Wellness Solutions":MAILTO:info@oqatawellness.com
END:VEVENT
END:VCALENDAR